BEGIN:VCALENDAR
VERSION:2.0
PRODID:-//Sustain Rockford - ECPv6.15.20//NONSGML v1.0//EN
CALSCALE:GREGORIAN
METHOD:PUBLISH
X-WR-CALNAME:Sustain Rockford
X-ORIGINAL-URL:https://sustainrockford.org
X-WR-CALDESC:Events for Sustain Rockford
REFRESH-INTERVAL;VALUE=DURATION:PT1H
X-Robots-Tag:noindex
X-PUBLISHED-TTL:PT1H
BEGIN:VTIMEZONE
TZID:America/Chicago
BEGIN:DAYLIGHT
TZOFFSETFROM:-0600
TZOFFSETTO:-0500
TZNAME:CDT
DTSTART:20250309T080000
END:DAYLIGHT
BEGIN:STANDARD
TZOFFSETFROM:-0500
TZOFFSETTO:-0600
TZNAME:CST
DTSTART:20251102T070000
END:STANDARD
BEGIN:DAYLIGHT
TZOFFSETFROM:-0600
TZOFFSETTO:-0500
TZNAME:CDT
DTSTART:20260308T080000
END:DAYLIGHT
BEGIN:STANDARD
TZOFFSETFROM:-0500
TZOFFSETTO:-0600
TZNAME:CST
DTSTART:20261101T070000
END:STANDARD
BEGIN:DAYLIGHT
TZOFFSETFROM:-0600
TZOFFSETTO:-0500
TZNAME:CDT
DTSTART:20270314T080000
END:DAYLIGHT
BEGIN:STANDARD
TZOFFSETFROM:-0500
TZOFFSETTO:-0600
TZNAME:CST
DTSTART:20271107T070000
END:STANDARD
END:VTIMEZONE
BEGIN:VEVENT
DTSTART;VALUE=DATE:20260422
DTEND;VALUE=DATE:20260423
DTSTAMP:20260422T100031
CREATED:20260217T151126Z
LAST-MODIFIED:20260402T175108Z
UID:3839-1776816000-1776902399@sustainrockford.org
SUMMARY:Community-Wide Plans to Celebrate America’s 250th Anniversary
DESCRIPTION:Join Sustain Rockford on Earth Day (Apr 22) at 1pm to clean up the Midtown neighborhood as the community gets ready to celebrate our nation’s 250 birthday. Email info@sustainrockford.org and provide your name and email address or join as Sustain Rockford Clean Team. We will meet at 703 7th Street\, at 1pm to collect supplies and assign areas to clean up. Please dress for the weather and bring your own gloves. We will provide trash bags and grabbers. \nDownload the PDF
URL:https://sustainrockford.org/event/community-wide-plans-to-celebrate-americas-250th-anniversary/
END:VEVENT
BEGIN:VEVENT
DTSTART;TZID=America/Chicago:20260422T100000
DTEND;TZID=America/Chicago:20260422T160000
DTSTAMP:20260422T100031
CREATED:20260421T150814Z
LAST-MODIFIED:20260421T150828Z
UID:3963-1776852000-1776873600@sustainrockford.org
SUMMARY:Secret Life of Butterflies Exhibit
DESCRIPTION:Location: Webbs Norman Center \n401 S. Main Street\nRockford\, IL 61101 \nPhone: 815-987-8800  \nView the Calendar: https://www.calendarwiz.com/calendars/calendar.php?crd=rpdfun&jsenabled=1&winh=551&winw=1280&inifr=false#
URL:https://sustainrockford.org/event/secret-life-of-butterflies-exhibit/
END:VEVENT
BEGIN:VEVENT
DTSTART;TZID=America/Chicago:20260422T180000
DTEND;TZID=America/Chicago:20260422T190000
DTSTAMP:20260422T100031
CREATED:20260421T151145Z
LAST-MODIFIED:20260421T151145Z
UID:3967-1776880800-1776884400@sustainrockford.org
SUMMARY:Community Science: Bats Virtual Training
DESCRIPTION:Location: Join Zoom Meeting \nhttps://us06web.zoom.us/j/88307445123?pwd=gn6unfv9yj8mq7PLu6xbFGb5TBFMuG.1 \nMeeting ID: 883 0744 5123\nPasscode: 861550 \nRegister Online: https://seversondells.app.neoncrm.com/np/clients/seversondells/event.jsp?event=9451
URL:https://sustainrockford.org/event/community-science-bats-virtual-training/
END:VEVENT
BEGIN:VEVENT
DTSTART;TZID=America/Chicago:20260422T180000
DTEND;TZID=America/Chicago:20260422T193000
DTSTAMP:20260422T100031
CREATED:20260421T150338Z
LAST-MODIFIED:20260421T150338Z
UID:3960-1776880800-1776886200@sustainrockford.org
SUMMARY:Wildflower Walkabout
DESCRIPTION:Location: Natural Land Institute\n320 South Third Street\nRockford\, IL 61104 \nVisit the website: https://www.naturalland.org/events/
URL:https://sustainrockford.org/event/wildflower-walkabout/
END:VEVENT
END:VCALENDAR